BEGIN:VCALENDAR
VERSION:2.0
PRODID:-// - ECPv6.10.2//NONSGML v1.0//EN
CALSCALE:GREGORIAN
METHOD:PUBLISH
X-ORIGINAL-URL:https://d-muehltaler.de
X-WR-CALDESC:Veranstaltungen für 
REFRESH-INTERVAL;VALUE=DURATION:PT1H
X-Robots-Tag:noindex
X-PUBLISHED-TTL:PT1H
BEGIN:VTIMEZONE
TZID:UTC
BEGIN:STANDARD
TZOFFSETFROM:+0000
TZOFFSETTO:+0000
TZNAME:UTC
DTSTART:20260101T000000
END:STANDARD
END:VTIMEZONE
BEGIN:VEVENT
DTSTART;VALUE=DATE:20261107
DTEND;VALUE=DATE:20261116
DTSTAMP:20260425T035516
CREATED:20260409T071647Z
LAST-MODIFIED:20260409T071647Z
UID:538-1794009600-1794787199@d-muehltaler.de
SUMMARY:Theateraufführung in Straß
DESCRIPTION:
URL:https://d-muehltaler.de/event/theaterauffuehrung-in-strass-11/
END:VEVENT
BEGIN:VEVENT
DTSTART;VALUE=DATE:20261121
DTEND;VALUE=DATE:20261122
DTSTAMP:20260425T035516
CREATED:20260409T071739Z
LAST-MODIFIED:20260409T071739Z
UID:540-1795219200-1795305599@d-muehltaler.de
SUMMARY:Dorfadvent der Thundorf-Straßer Vereine - Schule Thundorf
DESCRIPTION:
URL:https://d-muehltaler.de/event/dorfadvent-der-thundorf-strasser-vereine-schule-thundorf/
END:VEVENT
END:VCALENDAR