BEGIN:VCALENDAR
VERSION:2.0
PRODID:-// - ECPv6.10.2//NONSGML v1.0//EN
CALSCALE:GREGORIAN
METHOD:PUBLISH
X-ORIGINAL-URL:https://d-muehltaler.de
X-WR-CALDESC:Veranstaltungen für 
REFRESH-INTERVAL;VALUE=DURATION:PT1H
X-Robots-Tag:noindex
X-PUBLISHED-TTL:PT1H
BEGIN:VTIMEZONE
TZID:UTC
BEGIN:STANDARD
TZOFFSETFROM:+0000
TZOFFSETTO:+0000
TZNAME:UTC
DTSTART:20260101T000000
END:STANDARD
END:VTIMEZONE
BEGIN:VEVENT
DTSTART;VALUE=DATE:20260105
DTEND;VALUE=DATE:20260106
DTSTAMP:20260424T215624
CREATED:20250508T112510Z
LAST-MODIFIED:20250508T112510Z
UID:419-1767571200-1767657599@d-muehltaler.de
SUMMARY:Dreikönigskonzert in Straß
DESCRIPTION:
URL:https://d-muehltaler.de/event/dreikoenigskonzert-in-strass-2/
END:VEVENT
BEGIN:VEVENT
DTSTART;VALUE=DATE:20260118
DTEND;VALUE=DATE:20260119
DTSTAMP:20260424T215624
CREATED:20250508T112549Z
LAST-MODIFIED:20250508T112549Z
UID:421-1768694400-1768780799@d-muehltaler.de
SUMMARY:Gemeindepreisschnalzen in Weng
DESCRIPTION:
URL:https://d-muehltaler.de/event/gemeindepreisschnalzen-in-weng/
END:VEVENT
END:VCALENDAR