BEGIN:VCALENDAR
VERSION:2.0
PRODID:-// - ECPv6.10.2//NONSGML v1.0//EN
CALSCALE:GREGORIAN
METHOD:PUBLISH
X-ORIGINAL-URL:https://d-muehltaler.de
X-WR-CALDESC:Veranstaltungen für 
REFRESH-INTERVAL;VALUE=DURATION:PT1H
X-Robots-Tag:noindex
X-PUBLISHED-TTL:PT1H
BEGIN:VTIMEZONE
TZID:UTC
BEGIN:STANDARD
TZOFFSETFROM:+0000
TZOFFSETTO:+0000
TZNAME:UTC
DTSTART:20250101T000000
END:STANDARD
END:VTIMEZONE
BEGIN:VEVENT
DTSTART;VALUE=DATE:20250914
DTEND;VALUE=DATE:20250915
DTSTAMP:20260425T040029
CREATED:20250508T112000Z
LAST-MODIFIED:20250508T112000Z
UID:407-1757808000-1757894399@d-muehltaler.de
SUMMARY:Gebietspreisplattln Lodronhalle (Jugend)
DESCRIPTION:
URL:https://d-muehltaler.de/event/gebietspreisplattln-lodronhalle-jugend/
END:VEVENT
BEGIN:VEVENT
DTSTART;VALUE=DATE:20250921
DTEND;VALUE=DATE:20250922
DTSTAMP:20260425T040029
CREATED:20250508T112034Z
LAST-MODIFIED:20250508T112034Z
UID:409-1758412800-1758499199@d-muehltaler.de
SUMMARY:Gaujugendpreisplattln Saaldorf
DESCRIPTION:
URL:https://d-muehltaler.de/event/gaujugendpreisplattln-saaldorf/
END:VEVENT
BEGIN:VEVENT
DTSTART;VALUE=DATE:20250928
DTEND;VALUE=DATE:20250929
DTSTAMP:20260425T040029
CREATED:20250508T112153Z
LAST-MODIFIED:20250508T112153Z
UID:411-1759017600-1759103999@d-muehltaler.de
SUMMARY:Erntedankfest mit anschl. Weißwurst-Frühshoppen - in der Mehrzweckhalle
DESCRIPTION:
URL:https://d-muehltaler.de/event/erntedankfest-mit-anschl-weisswurst-fruehshoppen-in-der-mehrzweckhalle/
END:VEVENT
END:VCALENDAR