BEGIN:VCALENDAR
VERSION:2.0
PRODID:-// - ECPv6.10.2//NONSGML v1.0//EN
CALSCALE:GREGORIAN
METHOD:PUBLISH
X-ORIGINAL-URL:https://d-muehltaler.de
X-WR-CALDESC:Veranstaltungen für 
REFRESH-INTERVAL;VALUE=DURATION:PT1H
X-Robots-Tag:noindex
X-PUBLISHED-TTL:PT1H
BEGIN:VTIMEZONE
TZID:UTC
BEGIN:STANDARD
TZOFFSETFROM:+0000
TZOFFSETTO:+0000
TZNAME:UTC
DTSTART:20250101T000000
END:STANDARD
END:VTIMEZONE
BEGIN:VEVENT
DTSTART;TZID=UTC:20250405T200000
DTEND;TZID=UTC:20250405T200000
DTSTAMP:20260425T120016
CREATED:20241021T121126Z
LAST-MODIFIED:20250317T131705Z
UID:219-1743883200-1743883200@d-muehltaler.de
SUMMARY:Theateraufführung in Straß
DESCRIPTION:
URL:https://d-muehltaler.de/event/theaterauffuehrung-in-strass-3/
END:VEVENT
BEGIN:VEVENT
DTSTART;TZID=UTC:20250406T170000
DTEND;TZID=UTC:20250406T170000
DTSTAMP:20260425T120016
CREATED:20241021T121144Z
LAST-MODIFIED:20250317T131639Z
UID:221-1743958800-1743958800@d-muehltaler.de
SUMMARY:Theateraufführung in Straß
DESCRIPTION:
URL:https://d-muehltaler.de/event/theaterauffuehrung-in-strass-4/
END:VEVENT
BEGIN:VEVENT
DTSTART;VALUE=DATE:20250427
DTEND;VALUE=DATE:20250428
DTSTAMP:20260425T120016
CREATED:20250508T110706Z
LAST-MODIFIED:20250508T110706Z
UID:375-1745712000-1745798399@d-muehltaler.de
SUMMARY:Vereinejahrtag
DESCRIPTION:
URL:https://d-muehltaler.de/event/vereinejahrtag/
END:VEVENT
END:VCALENDAR