BEGIN:VCALENDAR
VERSION:2.0
PRODID:-// - ECPv6.10.2//NONSGML v1.0//EN
CALSCALE:GREGORIAN
METHOD:PUBLISH
X-ORIGINAL-URL:https://d-muehltaler.de
X-WR-CALDESC:Veranstaltungen für 
REFRESH-INTERVAL;VALUE=DURATION:PT1H
X-Robots-Tag:noindex
X-PUBLISHED-TTL:PT1H
BEGIN:VTIMEZONE
TZID:UTC
BEGIN:STANDARD
TZOFFSETFROM:+0000
TZOFFSETTO:+0000
TZNAME:UTC
DTSTART:20250101T000000
END:STANDARD
END:VTIMEZONE
BEGIN:VEVENT
DTSTART;VALUE=DATE:20250202
DTEND;VALUE=DATE:20250203
DTSTAMP:20260425T150010
CREATED:20241021T120649Z
LAST-MODIFIED:20241204T163254Z
UID:207-1738454400-1738540799@d-muehltaler.de
SUMMARY:Gemeindepreisschnalzen in Perach
DESCRIPTION:
URL:https://d-muehltaler.de/event/gemeindepreisschnalzen-in-perach/
END:VEVENT
BEGIN:VEVENT
DTSTART;VALUE=DATE:20250222
DTEND;VALUE=DATE:20250223
DTSTAMP:20260425T150010
CREATED:20241021T120822Z
LAST-MODIFIED:20241021T120822Z
UID:209-1740182400-1740268799@d-muehltaler.de
SUMMARY:Rupertigau-Preisschnalzen in Ainring
DESCRIPTION:
URL:https://d-muehltaler.de/event/rupertigau-preisschnalzen-in-ainring/
END:VEVENT
BEGIN:VEVENT
DTSTART;VALUE=DATE:20250223
DTEND;VALUE=DATE:20250224
DTSTAMP:20260425T150010
CREATED:20241021T120857Z
LAST-MODIFIED:20241021T120857Z
UID:211-1740268800-1740355199@d-muehltaler.de
SUMMARY:Rupertigau-Preisschnalzen in Ainring
DESCRIPTION:
URL:https://d-muehltaler.de/event/rupertigau-preisschnalzen-in-ainring-2/
END:VEVENT
END:VCALENDAR