BEGIN:VCALENDAR
VERSION:2.0
PRODID:-// - ECPv6.10.2//NONSGML v1.0//EN
CALSCALE:GREGORIAN
METHOD:PUBLISH
X-ORIGINAL-URL:https://d-muehltaler.de
X-WR-CALDESC:Veranstaltungen für 
REFRESH-INTERVAL;VALUE=DURATION:PT1H
X-Robots-Tag:noindex
X-PUBLISHED-TTL:PT1H
BEGIN:VTIMEZONE
TZID:UTC
BEGIN:STANDARD
TZOFFSETFROM:+0000
TZOFFSETTO:+0000
TZNAME:UTC
DTSTART:20250101T000000
END:STANDARD
END:VTIMEZONE
BEGIN:VEVENT
DTSTART;VALUE=DATE:20250105
DTEND;VALUE=DATE:20250106
DTSTAMP:20260425T163601
CREATED:20241021T120619Z
LAST-MODIFIED:20241021T120619Z
UID:205-1736035200-1736121599@d-muehltaler.de
SUMMARY:Dreikönigskonzert in Straß
DESCRIPTION:
URL:https://d-muehltaler.de/event/dreikoenigskonzert-in-strass/
END:VEVENT
BEGIN:VEVENT
DTSTART;TZID=UTC:20250125T180000
DTEND;TZID=UTC:20250125T180000
DTSTAMP:20260425T163601
CREATED:20241216T181954Z
LAST-MODIFIED:20241216T182357Z
UID:335-1737828000-1737828000@d-muehltaler.de
SUMMARY:2. Straßer Vadraht umme Preisplatteln
DESCRIPTION:
URL:https://d-muehltaler.de/event/2-strasser-vadraht-umme-preisplatteln/
END:VEVENT
END:VCALENDAR