BEGIN:VCALENDAR
VERSION:2.0
PRODID:-// - ECPv6.10.2//NONSGML v1.0//EN
CALSCALE:GREGORIAN
METHOD:PUBLISH
X-ORIGINAL-URL:https://d-muehltaler.de
X-WR-CALDESC:Veranstaltungen für 
REFRESH-INTERVAL;VALUE=DURATION:PT1H
X-Robots-Tag:noindex
X-PUBLISHED-TTL:PT1H
BEGIN:VTIMEZONE
TZID:UTC
BEGIN:STANDARD
TZOFFSETFROM:+0000
TZOFFSETTO:+0000
TZNAME:UTC
DTSTART:20270101T000000
END:STANDARD
END:VTIMEZONE
BEGIN:VEVENT
DTSTART;VALUE=DATE:20270306
DTEND;VALUE=DATE:20270315
DTSTAMP:20260425T113530
CREATED:20260409T072103Z
LAST-MODIFIED:20260409T072103Z
UID:553-1804291200-1805068799@d-muehltaler.de
SUMMARY:Theateraufführung in Straß
DESCRIPTION:
URL:https://d-muehltaler.de/event/theaterauffuehrung-in-strass-12/
END:VEVENT
END:VCALENDAR