BEGIN:VCALENDAR
VERSION:2.0
PRODID:-// - ECPv6.10.2//NONSGML v1.0//EN
CALSCALE:GREGORIAN
METHOD:PUBLISH
X-ORIGINAL-URL:https://d-muehltaler.de
X-WR-CALDESC:Veranstaltungen für 
REFRESH-INTERVAL;VALUE=DURATION:PT1H
X-Robots-Tag:noindex
X-PUBLISHED-TTL:PT1H
BEGIN:VTIMEZONE
TZID:UTC
BEGIN:STANDARD
TZOFFSETFROM:+0000
TZOFFSETTO:+0000
TZNAME:UTC
DTSTART:20260101T000000
END:STANDARD
END:VTIMEZONE
BEGIN:VEVENT
DTSTART;VALUE=DATE:20260927
DTEND;VALUE=DATE:20260928
DTSTAMP:20260425T022452
CREATED:20260409T071602Z
LAST-MODIFIED:20260409T071602Z
UID:536-1790467200-1790553599@d-muehltaler.de
SUMMARY:Erntedankfest mit anschl. Weißwurst-Frühshoppen in der Mehrzweckhalle
DESCRIPTION:
URL:https://d-muehltaler.de/event/erntedankfest-mit-anschl-weisswurst-fruehshoppen-in-der-mehrzweckhalle-2/
END:VEVENT
END:VCALENDAR