BEGIN:VCALENDAR
VERSION:2.0
PRODID:-// - ECPv6.10.2//NONSGML v1.0//EN
CALSCALE:GREGORIAN
METHOD:PUBLISH
X-ORIGINAL-URL:https://d-muehltaler.de
X-WR-CALDESC:Veranstaltungen für 
REFRESH-INTERVAL;VALUE=DURATION:PT1H
X-Robots-Tag:noindex
X-PUBLISHED-TTL:PT1H
BEGIN:VTIMEZONE
TZID:UTC
BEGIN:STANDARD
TZOFFSETFROM:+0000
TZOFFSETTO:+0000
TZNAME:UTC
DTSTART:20260101T000000
END:STANDARD
END:VTIMEZONE
BEGIN:VEVENT
DTSTART;VALUE=DATE:20260719
DTEND;VALUE=DATE:20260720
DTSTAMP:20260424T230343
CREATED:20260409T071330Z
LAST-MODIFIED:20260409T071330Z
UID:525-1784419200-1784505599@d-muehltaler.de
SUMMARY:"Gaufest Dahoam" mit drei Vereinen
DESCRIPTION:
URL:https://d-muehltaler.de/event/gaufest-dahoam-mit-drei-vereinen/
END:VEVENT
END:VCALENDAR