BEGIN:VCALENDAR
VERSION:2.0
PRODID:-// - ECPv6.10.2//NONSGML v1.0//EN
CALSCALE:GREGORIAN
METHOD:PUBLISH
X-ORIGINAL-URL:https://d-muehltaler.de
X-WR-CALDESC:Veranstaltungen für 
REFRESH-INTERVAL;VALUE=DURATION:PT1H
X-Robots-Tag:noindex
X-PUBLISHED-TTL:PT1H
BEGIN:VTIMEZONE
TZID:UTC
BEGIN:STANDARD
TZOFFSETFROM:+0000
TZOFFSETTO:+0000
TZNAME:UTC
DTSTART:20260101T000000
END:STANDARD
END:VTIMEZONE
BEGIN:VEVENT
DTSTART;TZID=UTC:20260214T130000
DTEND;TZID=UTC:20260214T130000
DTSTAMP:20260424T215639
CREATED:20250508T112739Z
LAST-MODIFIED:20260206T063701Z
UID:425-1771074000-1771074000@d-muehltaler.de
SUMMARY:Kinderfasching - Beginn: 13:00 Uhr
DESCRIPTION:
URL:https://d-muehltaler.de/event/kinderfasching-beginn-1300-uhr/
END:VEVENT
END:VCALENDAR