BEGIN:VCALENDAR
VERSION:2.0
PRODID:-// - ECPv6.10.2//NONSGML v1.0//EN
CALSCALE:GREGORIAN
METHOD:PUBLISH
X-ORIGINAL-URL:https://d-muehltaler.de
X-WR-CALDESC:Veranstaltungen für 
REFRESH-INTERVAL;VALUE=DURATION:PT1H
X-Robots-Tag:noindex
X-PUBLISHED-TTL:PT1H
BEGIN:VTIMEZONE
TZID:UTC
BEGIN:STANDARD
TZOFFSETFROM:+0000
TZOFFSETTO:+0000
TZNAME:UTC
DTSTART:20250101T000000
END:STANDARD
END:VTIMEZONE
BEGIN:VEVENT
DTSTART;VALUE=DATE:20250606
DTEND;VALUE=DATE:20250607
DTSTAMP:20260425T115822
CREATED:20250508T111338Z
LAST-MODIFIED:20250508T111338Z
UID:389-1749168000-1749254399@d-muehltaler.de
SUMMARY:Hoagart - Kultursommer Grundschule Thundorf
DESCRIPTION:
URL:https://d-muehltaler.de/event/hoagart-kultursommer-grundschule-thundorf/
END:VEVENT
END:VCALENDAR