BEGIN:VCALENDAR
VERSION:2.0
PRODID:-// - ECPv6.10.2//NONSGML v1.0//EN
CALSCALE:GREGORIAN
METHOD:PUBLISH
X-ORIGINAL-URL:https://d-muehltaler.de
X-WR-CALDESC:Veranstaltungen für 
REFRESH-INTERVAL;VALUE=DURATION:PT1H
X-Robots-Tag:noindex
X-PUBLISHED-TTL:PT1H
BEGIN:VTIMEZONE
TZID:UTC
BEGIN:STANDARD
TZOFFSETFROM:+0000
TZOFFSETTO:+0000
TZNAME:UTC
DTSTART:20250101T000000
END:STANDARD
END:VTIMEZONE
BEGIN:VEVENT
DTSTART;VALUE=DATE:20250523
DTEND;VALUE=DATE:20250524
DTSTAMP:20260425T115935
CREATED:20250508T111125Z
LAST-MODIFIED:20250508T111125Z
UID:384-1747958400-1748044799@d-muehltaler.de
SUMMARY:Drei-Vereine-Preisplattln - Ausrichter Ainring-Rupertihof
DESCRIPTION:
URL:https://d-muehltaler.de/event/drei-vereine-preisplattln-ausrichter-ainring-rupertihof/
END:VEVENT
END:VCALENDAR