BEGIN:VCALENDAR
VERSION:2.0
PRODID:-// - ECPv6.10.2//NONSGML v1.0//EN
CALSCALE:GREGORIAN
METHOD:PUBLISH
X-ORIGINAL-URL:https://d-muehltaler.de
X-WR-CALDESC:Veranstaltungen für 
REFRESH-INTERVAL;VALUE=DURATION:PT1H
X-Robots-Tag:noindex
X-PUBLISHED-TTL:PT1H
BEGIN:VTIMEZONE
TZID:UTC
BEGIN:STANDARD
TZOFFSETFROM:+0000
TZOFFSETTO:+0000
TZNAME:UTC
DTSTART:20240101T000000
END:STANDARD
END:VTIMEZONE
BEGIN:VEVENT
DTSTART;TZID=UTC:20241123T170000
DTEND;TZID=UTC:20241123T220000
DTSTAMP:20260425T211855
CREATED:20241104T073919Z
LAST-MODIFIED:20241104T073919Z
UID:329-1732381200-1732399200@d-muehltaler.de
SUMMARY:Dorfadvent Schulgelände GS Thundorf
DESCRIPTION:
URL:https://d-muehltaler.de/event/dorfadvent-schulgelaende-gs-thundorf/
END:VEVENT
END:VCALENDAR